BEGIN:VCALENDAR
VERSION:2.0
PRODID:-//Radsportbezirk Hessen-Darmstadt - ECPv6.3.1//NONSGML v1.0//EN
CALSCALE:GREGORIAN
METHOD:PUBLISH
X-WR-CALNAME:Radsportbezirk Hessen-Darmstadt
X-ORIGINAL-URL:https://www.radsportbezirk-hessen-darmstadt.de
X-WR-CALDESC:Veranstaltungen für Radsportbezirk Hessen-Darmstadt
REFRESH-INTERVAL;VALUE=DURATION:PT1H
X-Robots-Tag:noindex
X-PUBLISHED-TTL:PT1H
BEGIN:VTIMEZONE
TZID:Europe/Berlin
BEGIN:DAYLIGHT
TZOFFSETFROM:+0100
TZOFFSETTO:+0200
TZNAME:CEST
DTSTART:20230326T010000
END:DAYLIGHT
BEGIN:STANDARD
TZOFFSETFROM:+0200
TZOFFSETTO:+0100
TZNAME:CET
DTSTART:20231029T010000
END:STANDARD
BEGIN:DAYLIGHT
TZOFFSETFROM:+0100
TZOFFSETTO:+0200
TZNAME:CEST
DTSTART:20240331T010000
END:DAYLIGHT
BEGIN:STANDARD
TZOFFSETFROM:+0200
TZOFFSETTO:+0100
TZNAME:CET
DTSTART:20241027T010000
END:STANDARD
BEGIN:DAYLIGHT
TZOFFSETFROM:+0100
TZOFFSETTO:+0200
TZNAME:CEST
DTSTART:20250330T010000
END:DAYLIGHT
BEGIN:STANDARD
TZOFFSETFROM:+0200
TZOFFSETTO:+0100
TZNAME:CET
DTSTART:20251026T010000
END:STANDARD
BEGIN:DAYLIGHT
TZOFFSETFROM:+0100
TZOFFSETTO:+0200
TZNAME:CEST
DTSTART:20260329T010000
END:DAYLIGHT
BEGIN:STANDARD
TZOFFSETFROM:+0200
TZOFFSETTO:+0100
TZNAME:CET
DTSTART:20261025T010000
END:STANDARD
END:VTIMEZONE
BEGIN:VEVENT
DTSTART;TZID=Europe/Berlin:20260418T093000
DTEND;TZID=Europe/Berlin:20260418T120000
DTSTAMP:20260424T220503
CREATED:20230328T133226Z
LAST-MODIFIED:20260212T103238Z
UID:609-1776504600-1776513600@www.radsportbezirk-hessen-darmstadt.de
SUMMARY:Gebrauchtrad-Börse SKV Mörfelden
DESCRIPTION:Am 18. April veranstaltet die SKV Mörfelden ihre Gebrauchtrad-Börse. Nähere Informationen unter: radboerse.info
URL:https://www.radsportbezirk-hessen-darmstadt.de/event/gebrauchtrad-boerse-skv-moerfelden/
LOCATION:SKV Mörfelden Waldstadion\, Rüsselsheimer Str. 78\, Mörfelden-Walldorf\, Hessen\, 64546\, Germany
CATEGORIES:Flohmarkt
END:VEVENT
BEGIN:VEVENT
DTSTART;TZID=Europe/Berlin:20260322T100000
DTEND;TZID=Europe/Berlin:20260322T130000
DTSTAMP:20260424T220503
CREATED:20230126T165327Z
LAST-MODIFIED:20251222T140728Z
UID:271-1774173600-1774184400@www.radsportbezirk-hessen-darmstadt.de
SUMMARY:JHV Hessischer Radsportverband
DESCRIPTION:Teilnehmer aus dem Radsportbezirk Hessen-Darmstadt sind die bei der JHV 2025 festgelegten Delegierten.
URL:https://www.radsportbezirk-hessen-darmstadt.de/event/jhv-hessischer-radsportverband/
LOCATION:Bürgerhaus Rumpenheim\, Pfaffenweg 2\, Offenbach\, Hessen\, 63075\, Germany
CATEGORIES:Jahreshauptversammlung
END:VEVENT
BEGIN:VEVENT
DTSTART;TZID=Europe/Berlin:20260321T140000
DTEND;TZID=Europe/Berlin:20260322T190000
DTSTAMP:20260424T220503
CREATED:20260212T102939Z
LAST-MODIFIED:20260212T102939Z
UID:1143-1774101600-1774206000@www.radsportbezirk-hessen-darmstadt.de
SUMMARY:Radball Junioren 2. EM-Qualifikation
DESCRIPTION:Am 21. und 22. März 2026 findet in Worfelden die 2. EM-Qualifikation der Radball Junioren in der Sporthalle Worfelden statt.\nBegin am Samstag um 14 Uhr und am Sonntag um 10 Uhr.
URL:https://www.radsportbezirk-hessen-darmstadt.de/event/radball-junioren-2-em-qualifikation/
LOCATION:Sporthalle Worfelden\, Geleitstraße 6\, Büttelborn\, Hessen\, 64572\, Germany
CATEGORIES:Qualifikation,Radball
END:VEVENT
BEGIN:VEVENT
DTSTART;TZID=Europe/Berlin:20260321T140000
DTEND;TZID=Europe/Berlin:20260321T180000
DTSTAMP:20260424T220503
CREATED:20260301T165604Z
LAST-MODIFIED:20260301T165604Z
UID:1151-1774101600-1774116000@www.radsportbezirk-hessen-darmstadt.de
SUMMARY:Radball Weltcup in Erzhausen
DESCRIPTION:
URL:https://www.radsportbezirk-hessen-darmstadt.de/event/radball-weltcup-in-erzhausen/
LOCATION:Sporthalle Erzhausen\, Heinrichstraße 40b\, Erzhausen\, Hessen\, 64390\, Germany
CATEGORIES:Radball,Sportveranstaltung
ATTACH;FMTTYPE=image/png:https://www.radsportbezirk-hessen-darmstadt.de/wp-content/uploads/2026/03/Radball_Weltcup-2026-Erzhausen.png
END:VEVENT
BEGIN:VEVENT
DTSTART;TZID=Europe/Berlin:20260208T080000
DTEND;TZID=Europe/Berlin:20260208T170000
DTSTAMP:20260424T220503
CREATED:20240126T165655Z
LAST-MODIFIED:20260115T173249Z
UID:632-1770537600-1770570000@www.radsportbezirk-hessen-darmstadt.de
SUMMARY:Bezirksmeisterschaft Kunst- und Einradsport
DESCRIPTION:Die Bezirksmeisterschaft im Kunst- und Einradsport am 8.2.2026 in der Kurt-Bachmann-Halle Mörfelden..
URL:https://www.radsportbezirk-hessen-darmstadt.de/event/bezirksmeisterschaft/
LOCATION:Kurt-Bachmann-Halle\, Festplatz Mörfelden\, Feststraße 18\, Mörfelden\, Hessen\, 64546\, Germany
CATEGORIES:Meisterschaft,Sportveranstaltung
END:VEVENT
BEGIN:VEVENT
DTSTART;VALUE=DATE:20260131
DTEND;VALUE=DATE:20260202
DTSTAMP:20260424T220503
CREATED:20260115T172304Z
LAST-MODIFIED:20260115T172908Z
UID:935-1769817600-1769990399@www.radsportbezirk-hessen-darmstadt.de
SUMMARY:Radball Junioren EM-Qualifikation
DESCRIPTION:Der RMSV Klein-Gerau e.V. ist am 31. Januar und 1. Februar 2026 Ausrichter der 1. Europameisterschafts-Qualifikation der Junioren-Radball-Nationalmannschaft. Die Spiele finden in der Großsporthalle in Klein-Gerau statt. \nInsgesamt sieben Teams des Nationalkaders treten an diesen beiden Tagen gegeneinander an. Die bestplatzierte Mannschaft aus den beiden Qualifikationsrunden (die zweite Qualifikation folgt am 21. und 22. März 2026) vertritt anschließend Deutschland bei der Junioren-Europameisterschaft in Höchst (Österreich). Der RMSV Klein-Gerau e.V.\, wird mit einer Heimmannschaft am Start sein. Fabrice Gerbig / Emmanuel Bandl Leites\, seit Januar 2025 Teil der Junioren-Nationalmannschaft\, möchten sich vor heimischem Publikum beweisen. Aus Sicht des Bezirkes Hessen-Darmstadt noch erfreulicher\, denn mit den Mannschaften des RC 03 Worfelden und der SV Erzhausen\, sind noch zwei weitere Teams aus dem Bezirk am Start. \nWeitere Infos auf der Webseite des RMSC Klein-Gerau.
URL:https://www.radsportbezirk-hessen-darmstadt.de/event/radball-junioren-em-qualifikation/
LOCATION:Klein-Gerau Großsporthalle\, Heinrich-Engel-Straße 2\, Büttelborn\, Hessen\, 64572\, Germany
CATEGORIES:Qualifikation,Radball,Sportveranstaltung
END:VEVENT
BEGIN:VEVENT
DTSTART;VALUE=DATE:20260125
DTEND;VALUE=DATE:20260126
DTSTAMP:20260424T220503
CREATED:20230127T122848Z
LAST-MODIFIED:20260115T173425Z
UID:289-1769299200-1769385599@www.radsportbezirk-hessen-darmstadt.de
SUMMARY:Kreismeisterschaft Kunst- und Einradsport
DESCRIPTION:Kreismeisterschaft Kunstfahren der Kreise Groß-Gerau\, Darmstadt- Dieburg\, Bergstraße und Odenwald am 25.1.2025 in Einhausen
URL:https://www.radsportbezirk-hessen-darmstadt.de/event/kreismeisterschaft/
LOCATION:RV 1926 Einhausen e.V.\, Sepp-Herberger-Straße 20\, Einhausen\, Hessen\, 64683\, Germany
CATEGORIES:Meisterschaft,Sportveranstaltung
END:VEVENT
BEGIN:VEVENT
DTSTART;VALUE=DATE:20250816
DTEND;VALUE=DATE:20250817
DTSTAMP:20260424T220503
CREATED:20250708T123413Z
LAST-MODIFIED:20250708T123413Z
UID:736-1755302400-1755388799@www.radsportbezirk-hessen-darmstadt.de
SUMMARY:MTB Rhein-Main-Cup Mühltal
DESCRIPTION:MTB-Rennen am Sonntag\, 16. August 2025 im Rahmen des 11. Riese & Müller MTB Rhein-Main-Cups. \nAlle Informationen zur Veranstaltung: https://www.mtb-rhein-main-cup.de/pages/rennen/16.08.2025-muehltal.php/
URL:https://www.radsportbezirk-hessen-darmstadt.de/event/mtb-rhein-main-cup-muehltal/
LOCATION:Firma Riese & Müller\, Am Alten Graben 2\, Mühltal\, 64367\, Germany
CATEGORIES:MTB
END:VEVENT
BEGIN:VEVENT
DTSTART;VALUE=DATE:20250629
DTEND;VALUE=DATE:20250630
DTSTAMP:20260424T220503
CREATED:20250227T185235Z
LAST-MODIFIED:20250317T163113Z
UID:729-1751155200-1751241599@www.radsportbezirk-hessen-darmstadt.de
SUMMARY:MTB Rhein-Main-Cup VC Darmstadt
DESCRIPTION:MTB-Rennen des VC Darnstadt am Sonntag\, 29. Juni 2025 im Rahmen des 11. Riese & Müller MTB Rhein-Main-Cups. \nAlle Informationen zur Veranstaltung: https://www.mtb-rhein-main-cup.de/
URL:https://www.radsportbezirk-hessen-darmstadt.de/event/mtb-rhein-main-cup-vc-darmstadt/
LOCATION:VC Darmstadt\, Heidelberger Str. 150\, Hinter der Rennbahn\, Darmstadt\, Hessen\, 64285\, Germany
CATEGORIES:MTB
END:VEVENT
BEGIN:VEVENT
DTSTART;TZID=Europe/Berlin:20260620T070000
DTEND;TZID=Europe/Berlin:20250628T100000
DTSTAMP:20260424T220503
CREATED:20230207T170843Z
LAST-MODIFIED:20260107T141313Z
UID:467-1781938800-1751104800@www.radsportbezirk-hessen-darmstadt.de
SUMMARY:Cycling for Charity
DESCRIPTION:Radtourenfahrt über 55/112/170 nach GPS der SSG Bensheim Abt. Radsport 1984 e.V.
URL:https://www.radsportbezirk-hessen-darmstadt.de/event/cycling-for-charity/
LOCATION:SSG Bensheim\, Berliner Ring 118\, Bensheim\, Hessen\, 64625
CATEGORIES:RTF,Sportveranstaltung
END:VEVENT
BEGIN:VEVENT
DTSTART;VALUE=DATE:20250511
DTEND;VALUE=DATE:20250512
DTSTAMP:20260424T220503
CREATED:20240823T092209Z
LAST-MODIFIED:20250227T185113Z
UID:682-1746921600-1747007999@www.radsportbezirk-hessen-darmstadt.de
SUMMARY:MTB Rhein-Main-Cup Bauscheim
DESCRIPTION:MTB-Rennen der SKG Bauschheim am Sonntag\, 11. Mai 2025 im Rahmen des 11. Riese & Müller MTB Rhein-Main-Cups. Es ist das 15. MTB-Rennen der SKG Bauschheim. \nAlle Informationen zur Veranstaltung: https://www.mtb-rhein-main-cup.de/
URL:https://www.radsportbezirk-hessen-darmstadt.de/event/mtb-rhein-main-cup/
LOCATION:65428 Rüsselsheim\, Ortsteil Bauschheim\, Am Weinfaß 8\, Am Weinfaß 83\, Rüsselsheim\, Hessen\, 65428\, Germany
CATEGORIES:MTB,Sportveranstaltung
END:VEVENT
BEGIN:VEVENT
DTSTART;TZID=Europe/Berlin:20250501T090000
DTEND;TZID=Europe/Berlin:20250501T110000
DTSTAMP:20260424T220503
CREATED:20230207T165650Z
LAST-MODIFIED:20250227T184500Z
UID:459-1746090000-1746097200@www.radsportbezirk-hessen-darmstadt.de
SUMMARY:Volksradfahren SKG Bauschheim
DESCRIPTION:Volksradfahren der SKG Bauschheim e.V. über 20 und 30 km
URL:https://www.radsportbezirk-hessen-darmstadt.de/event/volksradfahren/
LOCATION:65428 Rüsselsheim\, Ortsteil Bauschheim\, Am Weinfaß 8\, Am Weinfaß 83\, Rüsselsheim\, Hessen\, 65428\, Germany
CATEGORIES:Sportveranstaltung,Volksradfahren
END:VEVENT
BEGIN:VEVENT
DTSTART;VALUE=DATE:20250316
DTEND;VALUE=DATE:20250317
DTSTAMP:20260424T220503
CREATED:20250227T184831Z
LAST-MODIFIED:20250227T184831Z
UID:725-1742083200-1742169599@www.radsportbezirk-hessen-darmstadt.de
SUMMARY:Hessenmeisterschaft Kunstradsport Jugend/Elite
DESCRIPTION:Die Hessenmeisterschaft im Kunstradsport Jugend / Elite 2025 in Mörfelden
URL:https://www.radsportbezirk-hessen-darmstadt.de/event/hessenmeisterschaft-kunstradsport-jugend-elite/
LOCATION:Kurt-Bachmann-Halle\, Festplatz Mörfelden\, Feststraße 18\, Mörfelden\, Hessen\, 64546\, Germany
CATEGORIES:Meisterschaft
END:VEVENT
BEGIN:VEVENT
DTSTART;VALUE=DATE:20240907
DTEND;VALUE=DATE:20240908
DTSTAMP:20260424T220503
CREATED:20240823T091407Z
LAST-MODIFIED:20240823T091407Z
UID:680-1725667200-1725753599@www.radsportbezirk-hessen-darmstadt.de
SUMMARY:Radball-Worldcup
DESCRIPTION:Radball-Worldcup am 7. September 2024 ab 11 Uhr\nim Diatest-Velodrom\, Heidelberger Straße 150\,\nHinter der Radrennbahn\, 64285 Darmstadt \nTicketanfragen unter: doerrpolo973@gmail.com\nPreise: Erawchsene € 8\,–\, Jugendliche ab 12 Jahre € 5\,–
URL:https://www.radsportbezirk-hessen-darmstadt.de/event/radball-worldcup/
LOCATION:VC Darmstadt\, Heidelberger Str. 150\, Hinter der Rennbahn\, Darmstadt\, Hessen\, 64285\, Germany
CATEGORIES:Meisterschaft
END:VEVENT
BEGIN:VEVENT
DTSTART;TZID=Europe/Berlin:20240519T080000
DTEND;TZID=Europe/Berlin:20240519T100000
DTSTAMP:20260424T220503
CREATED:20240126T170314Z
LAST-MODIFIED:20240126T170314Z
UID:639-1716105600-1716112800@www.radsportbezirk-hessen-darmstadt.de
SUMMARY:Gravelride VC 1899 Darmstadt
DESCRIPTION:Gravelride des VC 1899 Darmstadt über 25 und 50 km.
URL:https://www.radsportbezirk-hessen-darmstadt.de/event/gravelride-vc-1899-darmstadt/
LOCATION:VC Darmstadt\, Heidelberger Str. 150\, Hinter der Rennbahn\, Darmstadt\, Hessen\, 64285\, Germany
CATEGORIES:RTF,Sportveranstaltung
END:VEVENT
BEGIN:VEVENT
DTSTART;TZID=Europe/Berlin:20240519T073000
DTEND;TZID=Europe/Berlin:20240519T093000
DTSTAMP:20260424T220503
CREATED:20230207T170003Z
LAST-MODIFIED:20240126T170033Z
UID:461-1716103800-1716111000@www.radsportbezirk-hessen-darmstadt.de
SUMMARY:Starkenburg RTF
DESCRIPTION:Radtourenfahrt über 75\, 125 oder 175 km des VC Darmstadt 1899 e.V.
URL:https://www.radsportbezirk-hessen-darmstadt.de/event/starkenburg-rtf/
LOCATION:VC Darmstadt\, Heidelberger Str. 150\, Hinter der Rennbahn\, Darmstadt\, Hessen\, 64285\, Germany
CATEGORIES:RTF,Sportveranstaltung
END:VEVENT
BEGIN:VEVENT
DTSTART;TZID=Europe/Berlin:20240516T150000
DTEND;TZID=Europe/Berlin:20240516T213000
DTSTAMP:20260424T220503
CREATED:20240511T160747Z
LAST-MODIFIED:20240511T160747Z
UID:675-1715871600-1715895000@www.radsportbezirk-hessen-darmstadt.de
SUMMARY:Internationalen Bahnen-Tournee
DESCRIPTION:Olympiateilnehmer:innen bei der Internationalen Bahnen-Tournee am 16. Mai in Darmstadt erwartet \nIm Rahmen des 125-jährigen Vereinsjubiläums richtet der Velociped-Club 1899 Darmstadt e. V. die 2. Etappe der diesjährigen Internationalen Bahnen-Tournee 2024 im DIATEST Velodrom Darmstadt am Donnerstag den 16.05.2024 aus. \nDie Internationale Bahnen-Tournee zählt zu den etablierten Mehrtages-Bahnradsportveranstaltungen in Europa und gilt sogleich als Qualifikation für den sogenannten Nations-Bahn-Cup im jeweiligen Folgejahr. Es werden Sportler:innen aus rund 17 Nationen erwartet\, zu denen auch zahlreiche Teilnehmer:innen an den Olympischen Spielen 2024 in Paris zählen werden\, die sich im Rahmen der Internationalen Bahnen-Tournee den letzten Formschliff verleihen. \nMit Moritz Augenstein (RSC Kempten) hat der vierfache Deutsche Meister aus 2023 in den Bahnraddisziplinen Scratch\, Madison\, Punktefahren und Derny seine Teilnahme zugesagt. Gemeinsam mit seinen Teamkolleg:innen der Deutschen Nationalmannschaft in den ausgeschriebenen Kurz-und Ausdauerdisziplinen wird er sich auf die Rundenjagd im DIATEST Velodrom in Darmstadt begeben und sich dabei der Gegenwehr der Nationalmannschaften aus Österreich\, Schweiz\, Niederlande\, Norwegen\, Dänemark\, Finnland\, Indien\, Slowakei\, Ukraine\, Schweden\, Spanien\, Griechenland\, Argentinien\, Kanada\, Australien sowie der USA sicher sein. \nDas Rennprogramm beginnt um 15:00 Uhr und endet gegen 21:30 Uhr. Neben Spitzensport ist für musikalische Unterhaltung sowie Essen und Trinken besten gesorgt. Parkplätze stehen nur sehr eingeschränkt für die Sportler:innen und Offizielle zur Verfügung. Besucher:innen aus Darmstadt und Umgebung werden daher gebeten\, mit öffentlichen Verkehrsmitteln oder dem Fahrrad anzureisen. Tickets gibt es an der Kasse am Eingang zum Sportgelände. Kinder und Jugendliche bis 16 Jahre haben freien Eintritt. Erwachsene zahlen 3 €. \nMehr Infos und Rennprogramm unter: https://www.vc1899darmstadt.de/ibt-2024
URL:https://www.radsportbezirk-hessen-darmstadt.de/event/internationalen-bahnen-tournee/
LOCATION:VC Darmstadt\, Heidelberger Str. 150\, Hinter der Rennbahn\, Darmstadt\, Hessen\, 64285\, Germany
CATEGORIES:Sportveranstaltung
END:VEVENT
BEGIN:VEVENT
DTSTART;VALUE=DATE:20231008
DTEND;VALUE=DATE:20231009
DTSTAMP:20260424T220503
CREATED:20230314T155237Z
LAST-MODIFIED:20230314T155237Z
UID:579-1696723200-1696809599@www.radsportbezirk-hessen-darmstadt.de
SUMMARY:MTB-Rhein-Main-Cup Darmstadt
DESCRIPTION:Riese & Müller MTB Rhein-Main-Cup in Darmstadt.\nWeitere Informationen unter: https://www.mtb-rhein-main-cup.de/
URL:https://www.radsportbezirk-hessen-darmstadt.de/event/mtb-rhein-main-cup-darmstadt/
LOCATION:VC Darmstadt\, Heidelberger Str. 150\, Hinter der Rennbahn\, Darmstadt\, Hessen\, 64285\, Germany
CATEGORIES:MTB,Sportveranstaltung
END:VEVENT
BEGIN:VEVENT
DTSTART;VALUE=DATE:20230902
DTEND;VALUE=DATE:20230903
DTSTAMP:20260424T220503
CREATED:20230723T211406Z
LAST-MODIFIED:20230723T211717Z
UID:615-1693612800-1693699199@www.radsportbezirk-hessen-darmstadt.de
SUMMARY:UCI Radball-Weltcup Hähnlein
DESCRIPTION:Liebe Sportsfreunde\, \nEndlich geht es los… \nWir freuen uns euch mitteilen zu können\, dass ab sofort der Ticketverkauf zum Radball-Weltcup am 02.09.2023 in Hähnlein startet und ihr euch Tickets zu einem der bestbesetzten Turniere unseres Sports sichern könnt. \nWir freuen uns auf Mannschaften aus insgesamt 6 Nationen und auch der RSV Hähnlein ist als Lokalmatador mit einem Duo (Loris und Marvin Conrath) vertreten. \nWeitere Infos\, sowie Ticketanfragen unter \nradballweltcup-haehnlein@gmx.de \nWir freuen uns auf Euch!!!
URL:https://www.radsportbezirk-hessen-darmstadt.de/event/radball-weltcup/
LOCATION:Sport und Kulturhalle Hähnlein\, Marktstraße 3\, Alsbach-Hähnlein\, 64665\, Germany
CATEGORIES:Meisterschaft
END:VEVENT
BEGIN:VEVENT
DTSTART;VALUE=DATE:20230625
DTEND;VALUE=DATE:20230626
DTSTAMP:20260424T220503
CREATED:20230314T155004Z
LAST-MODIFIED:20230314T155412Z
UID:576-1687651200-1687737599@www.radsportbezirk-hessen-darmstadt.de
SUMMARY:MTB Rhein-Main-Cup Bauschheim
DESCRIPTION:Riese & Müller MTB Rhein-Main-Cup in Bauschheim.\nWeitere Informationen unter: https://www.mtb-rhein-main-cup.de/
URL:https://www.radsportbezirk-hessen-darmstadt.de/event/mtb-rhein-main-cup-bauschheim/
LOCATION:65428 Rüsselsheim\, Ortsteil Bauschheim\, Am Weinfaß 8\, Am Weinfaß 83\, Rüsselsheim\, Hessen\, 65428\, Germany
CATEGORIES:MTB,Sportveranstaltung
END:VEVENT
BEGIN:VEVENT
DTSTART;TZID=Europe/Berlin:20230604T063000
DTEND;TZID=Europe/Berlin:20230604T080000
DTSTAMP:20260424T220503
CREATED:20230207T170159Z
LAST-MODIFIED:20230414T172947Z
UID:463-1685860200-1685865600@www.radsportbezirk-hessen-darmstadt.de
SUMMARY:Starkenburg Radmarathon
DESCRIPTION:Radmarathon im geschlossenen Verband über 200 oder 220 km des VC Darmstadt 1899 e.V.
URL:https://www.radsportbezirk-hessen-darmstadt.de/event/starkenburg-radmarathon/
LOCATION:VC Darmstadt\, Heidelberger Str. 150\, Hinter der Rennbahn\, Darmstadt\, Hessen\, 64285\, Germany
CATEGORIES:Radmarathon,Sportveranstaltung
END:VEVENT
END:VCALENDAR