BEGIN:VCALENDAR
VERSION:2.0
PRODID:-//Radsportbezirk Hessen-Darmstadt - ECPv6.3.1//NONSGML v1.0//EN
CALSCALE:GREGORIAN
METHOD:PUBLISH
X-ORIGINAL-URL:https://www.radsportbezirk-hessen-darmstadt.de
X-WR-CALDESC:Veranstaltungen für Radsportbezirk Hessen-Darmstadt
REFRESH-INTERVAL;VALUE=DURATION:PT1H
X-Robots-Tag:noindex
X-PUBLISHED-TTL:PT1H
BEGIN:VTIMEZONE
TZID:Europe/Berlin
BEGIN:DAYLIGHT
TZOFFSETFROM:+0100
TZOFFSETTO:+0200
TZNAME:CEST
DTSTART:20260329T010000
END:DAYLIGHT
BEGIN:STANDARD
TZOFFSETFROM:+0200
TZOFFSETTO:+0100
TZNAME:CET
DTSTART:20261025T010000
END:STANDARD
END:VTIMEZONE
BEGIN:VEVENT
DTSTART;TZID=Europe/Berlin:20260503T070000
DTEND;TZID=Europe/Berlin:20260503T093000
DTSTAMP:20260424T233539
CREATED:20230207T170506Z
LAST-MODIFIED:20260107T140418Z
UID:465-1777791600-1777800600@www.radsportbezirk-hessen-darmstadt.de
SUMMARY:41. RTF RV Opel Rüsselsheim
DESCRIPTION:Radtourenfahrt über 45/81/111/152 km des RV Opel 1888 Rüsselsheim e.V.
URL:https://www.radsportbezirk-hessen-darmstadt.de/event/38-rtf-rv-opel-ruesselsheim/
LOCATION:RV Opel Elsa Brandström\, Else-Brandström-Allee 11\, Rüsselsheim\, Hessen\, 65428\, Germany
CATEGORIES:RTF,Sportveranstaltung
END:VEVENT
BEGIN:VEVENT
DTSTART;TZID=Europe/Berlin:20260510T070000
DTEND;TZID=Europe/Berlin:20260510T110000
DTSTAMP:20260424T233539
CREATED:20250227T183756Z
LAST-MODIFIED:20260107T140943Z
UID:717-1778396400-1778410800@www.radsportbezirk-hessen-darmstadt.de
SUMMARY:Ried-Odenwald-Tour
DESCRIPTION:Radtourenfahrt über 43 / 84 / 124 km des RV03 Bürstadt
URL:https://www.radsportbezirk-hessen-darmstadt.de/event/radtouristikfahrt-buerstadt/
LOCATION:Vereinsheim des RV03 Bürstadt\, Wasserwerkstr. 15\, Bürstadt\, Hessen\, 68642\, Germany
CATEGORIES:RTF
END:VEVENT
BEGIN:VEVENT
DTSTART;TZID=Europe/Berlin:20260510T070000
DTEND;TZID=Europe/Berlin:20260510T110000
DTSTAMP:20260424T233539
CREATED:20260107T140856Z
LAST-MODIFIED:20260107T140932Z
UID:776-1778396400-1778410800@www.radsportbezirk-hessen-darmstadt.de
SUMMARY:Ried-Odenwald Graveltour
DESCRIPTION:Gravelride des RV 03 Bürstadt über 56 km
URL:https://www.radsportbezirk-hessen-darmstadt.de/event/ried-odenwald-graveltour/
LOCATION:Vereinsheim des RV03 Bürstadt\, Wasserwerkstr. 15\, Bürstadt\, Hessen\, 68642\, Germany
CATEGORIES:CTF,Sportveranstaltung
END:VEVENT
END:VCALENDAR