BEGIN:VCALENDAR
VERSION:2.0
PRODID:-//Radsportbezirk Hessen-Darmstadt - ECPv6.3.1//NONSGML v1.0//EN
CALSCALE:GREGORIAN
METHOD:PUBLISH
X-ORIGINAL-URL:https://www.radsportbezirk-hessen-darmstadt.de
X-WR-CALDESC:Veranstaltungen für Radsportbezirk Hessen-Darmstadt
REFRESH-INTERVAL;VALUE=DURATION:PT1H
X-Robots-Tag:noindex
X-PUBLISHED-TTL:PT1H
BEGIN:VTIMEZONE
TZID:Europe/Berlin
BEGIN:DAYLIGHT
TZOFFSETFROM:+0100
TZOFFSETTO:+0200
TZNAME:CEST
DTSTART:20260329T010000
END:DAYLIGHT
BEGIN:STANDARD
TZOFFSETFROM:+0200
TZOFFSETTO:+0100
TZNAME:CET
DTSTART:20261025T010000
END:STANDARD
END:VTIMEZONE
BEGIN:VEVENT
DTSTART;TZID=Europe/Berlin:20260906T070000
DTEND;TZID=Europe/Berlin:20260906T100000
DTSTAMP:20260422T053439
CREATED:20230207T171429Z
LAST-MODIFIED:20260107T135814Z
UID:471-1788678000-1788688800@www.radsportbezirk-hessen-darmstadt.de
SUMMARY:20. Rüsselsheimer Rheinhessen-RTF "Ins Land der Reben"
DESCRIPTION:Radtourenfahrt über 43/86/119/155 km der SKG Bauschheim e.V.
URL:https://www.radsportbezirk-hessen-darmstadt.de/event/18-ruesselsheimer-rheinhessen-rtf-ins-land-der-reben/
LOCATION:65428 Rüsselsheim\, Ortsteil Bauschheim\, Am Weinfaß 8\, Am Weinfaß 83\, Rüsselsheim\, Hessen\, 65428\, Germany
CATEGORIES:RTF,Sportveranstaltung
END:VEVENT
BEGIN:VEVENT
DTSTART;TZID=Europe/Berlin:20260906T070000
DTEND;TZID=Europe/Berlin:20260906T100000
DTSTAMP:20260422T053439
CREATED:20250227T183254Z
LAST-MODIFIED:20260107T141005Z
UID:715-1788678000-1788688800@www.radsportbezirk-hessen-darmstadt.de
SUMMARY:3. Rüsselsheimer Rheinhessen-Gravelride „Ins Land der Reben“
DESCRIPTION:Gravelride über 50 / 75 km der SKG Bauschheim e.V.
URL:https://www.radsportbezirk-hessen-darmstadt.de/event/2-ruesselsheimer-rheinhessen-gravelride-ins-land-der-reben/
LOCATION:65428 Rüsselsheim\, Ortsteil Bauschheim\, Am Weinfaß 8\, Am Weinfaß 83\, Rüsselsheim\, Hessen\, 65428\, Germany
CATEGORIES:CTF
END:VEVENT
END:VCALENDAR