BEGIN:VCALENDAR
VERSION:2.0
PRODID:-//Radsportbezirk Hessen-Darmstadt - ECPv6.3.1//NONSGML v1.0//EN
CALSCALE:GREGORIAN
METHOD:PUBLISH
X-WR-CALNAME:Radsportbezirk Hessen-Darmstadt
X-ORIGINAL-URL:https://www.radsportbezirk-hessen-darmstadt.de
X-WR-CALDESC:Veranstaltungen für Radsportbezirk Hessen-Darmstadt
REFRESH-INTERVAL;VALUE=DURATION:PT1H
X-Robots-Tag:noindex
X-PUBLISHED-TTL:PT1H
BEGIN:VTIMEZONE
TZID:Europe/Berlin
BEGIN:STANDARD
TZOFFSETFROM:+0100
TZOFFSETTO:+0100
TZNAME:CET
DTSTART:20260101T000000
END:STANDARD
END:VTIMEZONE
BEGIN:VEVENT
DTSTART;TZID=Europe/Berlin:20260620T070000
DTEND;TZID=Europe/Berlin:20250628T100000
DTSTAMP:20260420T082347
CREATED:20230207T170843Z
LAST-MODIFIED:20260107T141313Z
UID:467-1781938800-1751104800@www.radsportbezirk-hessen-darmstadt.de
SUMMARY:Cycling for Charity
DESCRIPTION:Radtourenfahrt über 55/112/170 nach GPS der SSG Bensheim Abt. Radsport 1984 e.V.
URL:https://www.radsportbezirk-hessen-darmstadt.de/event/cycling-for-charity/
LOCATION:SSG Bensheim\, Berliner Ring 118\, Bensheim\, Hessen\, 64625
CATEGORIES:RTF,Sportveranstaltung
END:VEVENT
END:VCALENDAR