BEGIN:VCALENDAR
VERSION:2.0
PRODID:-//Radsportbezirk Hessen-Darmstadt - ECPv6.3.1//NONSGML v1.0//EN
CALSCALE:GREGORIAN
METHOD:PUBLISH
X-ORIGINAL-URL:https://www.radsportbezirk-hessen-darmstadt.de
X-WR-CALDESC:Veranstaltungen für Radsportbezirk Hessen-Darmstadt
REFRESH-INTERVAL;VALUE=DURATION:PT1H
X-Robots-Tag:noindex
X-PUBLISHED-TTL:PT1H
BEGIN:VTIMEZONE
TZID:Europe/Berlin
BEGIN:DAYLIGHT
TZOFFSETFROM:+0100
TZOFFSETTO:+0200
TZNAME:CEST
DTSTART:20260329T010000
END:DAYLIGHT
BEGIN:STANDARD
TZOFFSETFROM:+0200
TZOFFSETTO:+0100
TZNAME:CET
DTSTART:20261025T010000
END:STANDARD
END:VTIMEZONE
BEGIN:VEVENT
DTSTART;TZID=Europe/Berlin:20260620T070000
DTEND;TZID=Europe/Berlin:20260620T090000
DTSTAMP:20260419T212741
CREATED:20230207T171147Z
LAST-MODIFIED:20260107T141423Z
UID:469-1781938800-1781946000@www.radsportbezirk-hessen-darmstadt.de
SUMMARY:Cycling for Charity Radmarathon
DESCRIPTION:Radmarathon über 220 km der SSG Bensheim Abt. Radsport 1984 e.V.
URL:https://www.radsportbezirk-hessen-darmstadt.de/event/cycling-for-charity-2/
LOCATION:SSG Bensheim\, Berliner Ring 118\, Bensheim\, Hessen\, 64625
CATEGORIES:Radmarathon,Sportveranstaltung
END:VEVENT
BEGIN:VEVENT
DTSTART;TZID=Europe/Berlin:20260620T080000
DTEND;TZID=Europe/Berlin:20260620T120000
DTSTAMP:20260419T212741
CREATED:20240126T171242Z
LAST-MODIFIED:20260107T141459Z
UID:644-1781942400-1781956800@www.radsportbezirk-hessen-darmstadt.de
SUMMARY:Cycling for Charity Gravelride
DESCRIPTION:Gravelride der SSG Bensheim über 50 km / 70 km
URL:https://www.radsportbezirk-hessen-darmstadt.de/event/cycling-for-charity-gravelride/
LOCATION:SSG Bensheim\, Berliner Ring 118\, Bensheim\, Hessen\, 64625
CATEGORIES:MTB,Sportveranstaltung
END:VEVENT
END:VCALENDAR